Workbook

Sheet Istruzioni per compilazione
B8: Istruzioni operative
B11: 1. Inserire i dati da compilare sono quelli contenuti nelle celle di colore verde
B12: 2. Foglio "Dati bolletta"
C14: Nel foglio denominato “Dati bolletta” l’utente deve inserire obbligatoriamente tutte le seguenti informazioni che può trovare nelle bollette
B18: Codice utente/POD
B19: Contratto
B20: Fattura n.
B21: Data fattura
B24: Importo da pagare
B26: Tipo fattura
B28: Servizio acquedotto
B29: Servizio fognatura
B30: Servizio depurazione
B31: Quote fisse
B32: Oneri di perequazione
B33: Conguagli e Altri importi
... B44: Durata del periodo di consumo (gg)
J46: segue…
B59: Rest. Acc. Copertura perdite occulte
B60: Rest. Acc. quota fissa acquedotto
B61: Rest. Acc quota fissa fognatura
B62: Rest. Acc quota fissa depurazione
B77: 3. Foglio "Dati consumi"
C79: Nel foglio denominato “Dati consumi” l’utente deve inserire alcune informazioni non presenti in bolletta ovvero, per ogni unità immobiliare:
B80: Data lettura iniziale: data della lettura iniziale del contatore privato
B81: Lettura iniziale: lettura iniziale del contatore privato
B82: Data lettura finale: data della lettura finale del contatore privato
B83: Lettura finale: lettura finale del contatore privato
B85: Le date delle letture NON devono necessariamente corrispondere con quelle riportate nella bolletta, i consumi verranno riparametrati in base ai giorni di fatturazione
B87: 4. Foglio "RISULTATI"
B89: Nel foglio denominato “RISULTATI” viene riprodotta la ripartizione degli importi della bolletta per ogni unità immobiliare secondo il motore di calcolo in base ai consumi dei contatori di sotto utenza inseriti dal compilatore.

Sheet Dati bolletta
B4: Codice utente/POD
B5: Contratto
B6: Fattura n.
B7: Data fattura
B9: Tipo fattura | C9: Conguaglio
B11: Importo da pagare
B13: Riepilogo importi della bolletta
B14: Servizio acquedotto
B15: Servizio fognatura
B16: Servizio depurazione
B17: Quote fisse
B18: Oneri di perequazione
B19: Conguagli e Altri importi
B20: Rest. Acc. Copertura perdite occulte
B21: Rest. Acc. quota fissa acquedotto
B22: Rest. Acc quota fissa depurazione
B23: Rest. Acc quota fissa fognatura
... B25: Azzeramenti
B26: Totale imponibile IVA | C26: =SUM(C14:C19)+C24+C25-C29 -> 0
B27: Totale IVA | C27: =C26*0.1 -> 0
B28: Riepilogo IVA
B29: Esc. IVA Art. 15 DPR633/72
B30: TOTALE DELLA FATTURA | C30: =C26+C27+C29 -> 0
B33: N. unità abitative
B36: Consumo effettivo (mc)
B37: Consumo stimato (mc) | C37: 0
B38: Consumo restituito (mc)
B39: Consumo fatturato (mc) | C39: =C36+C38 -> 0
B41: Durata del periodo di consumo (gg)

Sheet Dati consumi
B4: Suddivisione Consumi
B6: Unita' Immobiliare | C6: Data lettura iniziale | D6: Lettura iniziale | E6: Data lettura finale | F6: Lettura finale | G6: gg | H6: mc | I6: mc/gg | J6: Totale imponibile | K6: Totale con IVA
B7: 1 | G7: =(E7-C7)+1 -> 1 | H7: =F7-D7 -> 0 | I7: =H7/G7 -> 0 | J7: =Calcoli!I11 -> 0 | K7: =IF(B7<='Dati bolletta'!$C$33,(J7*1.1)+'Dati bolletta'!$C$29/'Dati bolletta'!$C$33,0) -> 0
B8: 2 | G8: =(E8-C8)+1 -> 1 | H8: =F8-D8 -> 0 | I8: =H8/G8 -> 0 | J8: =Calcoli!I12 -> 0 | K8: =IF(B8<='Dati bolletta'!$C$33,(J8*1.1)+'Dati bolletta'!$C$29/'Dati bolletta'!$C$33,0) -> 0
B9: 3 | G9: =(E9-C9)+1 -> 1 | H9: =F9-D9 -> 0 | I9: =H9/G9 -> 0 | J9: =Calcoli!I13 -> 0 | K9: =IF(B9<='Dati bolletta'!$C$33,(J9*1.1)+'Dati bolletta'!$C$29/'Dati bolletta'!$C$33,0) -> 0
B10: 4 | G10: =(E10-C10)+1 -> 1 | H10: =F10-D10 -> 0 | I10: =H10/G10 -> 0 | J10: =Calcoli!I14 -> 0 | K10: =IF(B10<='Dati bolletta'!$C$33,(J10*1.1)+'Dati bolletta'!$C$29/'Dati bolletta'!$C$33,0) -> 0
B11: 5 | G11: =(E11-C11)+1 -> 1 | H11: =F11-D11 -> 0 | I11: =H11/G11 -> 0 | J11: =Calcoli!I15 -> 0 | K11: =IF(B11<='Dati bolletta'!$C$33,(J11*1.1)+'Dati bolletta'!$C$29/'Dati bolletta'!$C$33,0) -> 0
B12: 6 | G12: =(E12-C12)+1 -> 1 | H12: =F12-D12 -> 0 | I12: =H12/G12 -> 0 | J12: =Calcoli!I16 -> 0 | K12: =IF(B12<='Dati bolletta'!$C$33,(J12*1.1)+'Dati bolletta'!$C$29/'Dati bolletta'!$C$33,0) -> 0
B13: 7 | G13: =(E13-C13)+1 -> 1 | H13: =F13-D13 -> 0 | I13: =H13/G13 -> 0 | J13: =Calcoli!I17 -> 0 | K13: =IF(B13<='Dati bolletta'!$C$33,(J13*1.1)+'Dati bolletta'!$C$29/'Dati bolletta'!$C$33,0) -> 0
B14: 8 | G14: =(E14-C14)+1 -> 1 | H14: =F14-D14 -> 0 | I14: =H14/G14 -> 0 | J14: =Calcoli!I18 -> 0 | K14: =IF(B14<='Dati bolletta'!$C$33,(J14*1.1)+'Dati bolletta'!$C$29/'Dati bolletta'!$C$33,0) -> 0
B15: 9 | G15: =(E15-C15)+1 -> 1 | H15: =F15-D15 -> 0 | I15: =H15/G15 -> 0 | J15: =Calcoli!I19 -> 0 | K15: =IF(B15<='Dati bolletta'!$C$33,(J15*1.1)+'Dati bolletta'!$C$29/'Dati bolletta'!$C$33,0) -> 0
B16: 10 | G16: =(E16-C16)+1 -> 1 | H16: =F16-D16 -> 0 | I16: =H16/G16 -> 0 | J16: =Calcoli!I20 -> 0 | K16: =IF(B16<='Dati bolletta'!$C$33,(J16*1.1)+'Dati bolletta'!$C$29/'Dati bolletta'!$C$33,0) -> 0
B17: 11 | G17: =(E17-C17)+1 -> 1 | H17: =F17-D17 -> 0 | I17: =H17/G17 -> 0 | J17: =Calcoli!I21 -> 0 | K17: =IF(B17<='Dati bolletta'!$C$33,(J17*1.1)+'Dati bolletta'!$C$29/'Dati bolletta'!$C$33,0) -> 0
B18: 12 | G18: =(E18-C18)+1 -> 1 | H18: =F18-D18 -> 0 | I18: =H18/G18 -> 0 | J18: =Calcoli!I22 -> 0 | K18: =IF(B18<='Dati bolletta'!$C$33,(J18*1.1)+'Dati bolletta'!$C$29/'Dati bolletta'!$C$33,0) -> 0
... B244: 238 | G244: =(E244-C244)+1 -> 1 | H244: =F244-D244 -> 0 | I244: =H244/G244 -> 0 | J244: =Calcoli!I248 -> 0 | K244: =IF(B244<='Dati bolletta'!$C$33,(J244*1.1)+'Dati bolletta'!$C$29/'Dati bolletta'!$C$33,0) -> 0
B246: Totale | H246: =SUM(H6:H244) -> 0 | J246: =SUM(J6:J244) -> 0 | K246: =SUM(K6:K244) -> 0

Sheet RISULTATI
B4: Suddivisione Consumi
B6: Unita' Immobiliare | C6: Totale imponibile | D6: Totale con IVA
B7: 1 | C7: =Calcoli!I11 -> 0 | D7: =IF(B7<='Dati bolletta'!$C$33,(C7*1.1)+'Dati bolletta'!$C$29/'Dati bolletta'!$C$33,0) -> 0
B8: 2 | C8: =Calcoli!I12 -> 0 | D8: =IF(B8<='Dati bolletta'!$C$33,(C8*1.1)+'Dati bolletta'!$C$29/'Dati bolletta'!$C$33,0) -> 0
B9: 3 | C9: =Calcoli!I13 -> 0 | D9: =IF(B9<='Dati bolletta'!$C$33,(C9*1.1)+'Dati bolletta'!$C$29/'Dati bolletta'!$C$33,0) -> 0
B10: 4 | C10: =Calcoli!I14 -> 0 | D10: =IF(B10<='Dati bolletta'!$C$33,(C10*1.1)+'Dati bolletta'!$C$29/'Dati bolletta'!$C$33,0) -> 0
B11: 5 | C11: =Calcoli!I15 -> 0 | D11: =IF(B11<='Dati bolletta'!$C$33,(C11*1.1)+'Dati bolletta'!$C$29/'Dati bolletta'!$C$33,0) -> 0
B12: 6 | C12: =Calcoli!I16 -> 0 | D12: =IF(B12<='Dati bolletta'!$C$33,(C12*1.1)+'Dati bolletta'!$C$29/'Dati bolletta'!$C$33,0) -> 0
B13: 7 | C13: =Calcoli!I17 -> 0 | D13: =IF(B13<='Dati bolletta'!$C$33,(C13*1.1)+'Dati bolletta'!$C$29/'Dati bolletta'!$C$33,0) -> 0
B14: 8 | C14: =Calcoli!I18 -> 0 | D14: =IF(B14<='Dati bolletta'!$C$33,(C14*1.1)+'Dati bolletta'!$C$29/'Dati bolletta'!$C$33,0) -> 0
B15: 9 | C15: =Calcoli!I19 -> 0 | D15: =IF(B15<='Dati bolletta'!$C$33,(C15*1.1)+'Dati bolletta'!$C$29/'Dati bolletta'!$C$33,0) -> 0
B16: 10 | C16: =Calcoli!I20 -> 0 | D16: =IF(B16<='Dati bolletta'!$C$33,(C16*1.1)+'Dati bolletta'!$C$29/'Dati bolletta'!$C$33,0) -> 0
B17: 11 | C17: =Calcoli!I21 -> 0 | D17: =IF(B17<='Dati bolletta'!$C$33,(C17*1.1)+'Dati bolletta'!$C$29/'Dati bolletta'!$C$33,0) -> 0
B18: 12 | C18: =Calcoli!I22 -> 0 | D18: =IF(B18<='Dati bolletta'!$C$33,(C18*1.1)+'Dati bolletta'!$C$29/'Dati bolletta'!$C$33,0) -> 0
... B244: 238 | C244: =Calcoli!I248 -> 0 | D244: =IF(B244<='Dati bolletta'!$C$33,(C244*1.1)+'Dati bolletta'!$C$29/'Dati bolletta'!$C$33,0) -> 0
B246: Totale | C246: =SUM(C6:C244) -> 0 | D246: =SUM(D6:D244) -> 0

Sheet nascondere>>

Sheet Calcoli
A4: Totale QV | E4: ='Dati bolletta'!C14+'Dati bolletta'!C15+'Dati bolletta'!C16+('Dati bolletta'!C19-('Dati bolletta'!C20+'Dati bolletta'!C21+'Dati bolletta'!C22+'Dati bolletta'!C23))+'Dati bolletta'!C18 -> 0
A5: Totale QF | E5: ='Dati bolletta'!C17+'Dati bolletta'!C20+'Dati bolletta'!C21+'Dati bolletta'!C22+'Dati bolletta'!C23+'Dati bolletta'!C24-'Dati bolletta'!C29 -> 0
A7: Totale bolletta | E7: =E4+E5 -> 0 | J7: =IF(E250<>'Dati bolletta'!C36,"attenzione consumo totale diverso da fatturato","")
A10: Unita' | B10: gg | C10: mc | D10: mc/gg | E10: mc ricalcolati | F10: % | G10: Quota variabile | H10: Quota Fissa | I10: Totale imponibile
A11: 1 | B11: =+'Dati consumi'!G7 -> 1 | C11: =+'Dati consumi'!H7 -> 0 | D11: =+'Dati consumi'!I7 -> 0 | E11: =ROUND(D11*'Dati bolletta'!$C$41,0) -> 0 | F11: =IF(E11,E11/$E$250,0) -> 0 | G11: =$E$4*F11 -> 0 | H11: =(IF(A11<='Dati bolletta'!$C$33,Calcoli!$E$5/'Dati bolletta'!$C$33,0)) -> 0 | I11: =G11+H11 -> 0
A12: 2 | B12: =+'Dati consumi'!G8 -> 1 | C12: =+'Dati consumi'!H8 -> 0 | D12: =+'Dati consumi'!I8 -> 0 | E12: =ROUND(D12*'Dati bolletta'!$C$41,0) -> 0 | F12: =IF(E12,E12/$E$250,0) -> 0 | G12: =$E$4*F12 -> 0 | H12: =(IF(A12<='Dati bolletta'!$C$33,Calcoli!$E$5/'Dati bolletta'!$C$33,0)) -> 0 | I12: =G12+H12 -> 0
A13: 3 | B13: =+'Dati consumi'!G9 -> 1 | C13: =+'Dati consumi'!H9 -> 0 | D13: =+'Dati consumi'!I9 -> 0 | E13: =ROUND(D13*'Dati bolletta'!$C$41,0) -> 0 | F13: =IF(E13,E13/$E$250,0) -> 0 | G13: =$E$4*F13 -> 0 | H13: =(IF(A13<='Dati bolletta'!$C$33,Calcoli!$E$5/'Dati bolletta'!$C$33,0)) -> 0 | I13: =G13+H13 -> 0
A14: 4 | B14: =+'Dati consumi'!G10 -> 1 | C14: =+'Dati consumi'!H10 -> 0 | D14: =+'Dati consumi'!I10 -> 0 | E14: =ROUND(D14*'Dati bolletta'!$C$41,0) -> 0 | F14: =IF(E14,E14/$E$250,0) -> 0 | G14: =$E$4*F14 -> 0 | H14: =(IF(A14<='Dati bolletta'!$C$33,Calcoli!$E$5/'Dati bolletta'!$C$33,0)) -> 0 | I14: =G14+H14 -> 0
A15: 5 | B15: =+'Dati consumi'!G11 -> 1 | C15: =+'Dati consumi'!H11 -> 0 | D15: =+'Dati consumi'!I11 -> 0 | E15: =ROUND(D15*'Dati bolletta'!$C$41,0) -> 0 | F15: =IF(E15,E15/$E$250,0) -> 0 | G15: =$E$4*F15 -> 0 | H15: =(IF(A15<='Dati bolletta'!$C$33,Calcoli!$E$5/'Dati bolletta'!$C$33,0)) -> 0 | I15: =G15+H15 -> 0
A16: 6 | B16: =+'Dati consumi'!G12 -> 1 | C16: =+'Dati consumi'!H12 -> 0 | D16: =+'Dati consumi'!I12 -> 0 | E16: =ROUND(D16*'Dati bolletta'!$C$41,0) -> 0 | F16: =IF(E16,E16/$E$250,0) -> 0 | G16: =$E$4*F16 -> 0 | H16: =(IF(A16<='Dati bolletta'!$C$33,Calcoli!$E$5/'Dati bolletta'!$C$33,0)) -> 0 | I16: =G16+H16 -> 0
A17: 7 | B17: =+'Dati consumi'!G13 -> 1 | C17: =+'Dati consumi'!H13 -> 0 | D17: =+'Dati consumi'!I13 -> 0 | E17: =ROUND(D17*'Dati bolletta'!$C$41,0) -> 0 | F17: =IF(E17,E17/$E$250,0) -> 0 | G17: =$E$4*F17 -> 0 | H17: =IF(A17<='Dati bolletta'!$C$33,Calcoli!$E$5/'Dati bolletta'!$C$33,0) -> 0 | I17: =G17+H17 -> 0
A18: 8 | B18: =+'Dati consumi'!G14 -> 1 | C18: =+'Dati consumi'!H14 -> 0 | D18: =+'Dati consumi'!I14 -> 0 | E18: =ROUND(D18*'Dati bolletta'!$C$41,0) -> 0 | F18: =IF(E18,E18/$E$250,0) -> 0 | G18: =$E$4*F18 -> 0 | H18: =IF(A18<='Dati bolletta'!$C$33,Calcoli!$E$5/'Dati bolletta'!$C$33,0) -> 0 | I18: =G18+H18 -> 0
A19: 9 | B19: =+'Dati consumi'!G15 -> 1 | C19: =+'Dati consumi'!H15 -> 0 | D19: =+'Dati consumi'!I15 -> 0 | E19: =ROUND(D19*'Dati bolletta'!$C$41,0) -> 0 | F19: =IF(E19,E19/$E$250,0) -> 0 | G19: =$E$4*F19 -> 0 | H19: =IF(A19<='Dati bolletta'!$C$33,Calcoli!$E$5/'Dati bolletta'!$C$33,0) -> 0 | I19: =G19+H19 -> 0
A20: 10 | B20: =+'Dati consumi'!G16 -> 1 | C20: =+'Dati consumi'!H16 -> 0 | D20: =+'Dati consumi'!I16 -> 0 | E20: =ROUND(D20*'Dati bolletta'!$C$41,0) -> 0 | F20: =IF(E20,E20/$E$250,0) -> 0 | G20: =$E$4*F20 -> 0 | H20: =IF(A20<='Dati bolletta'!$C$33,Calcoli!$E$5/'Dati bolletta'!$C$33,0) -> 0 | I20: =G20+H20 -> 0
A21: 11 | B21: =+'Dati consumi'!G17 -> 1 | C21: =+'Dati consumi'!H17 -> 0 | D21: =+'Dati consumi'!I17 -> 0 | E21: =ROUND(D21*'Dati bolletta'!$C$41,0) -> 0 | F21: =IF(E21,E21/$E$250,0) -> 0 | G21: =$E$4*F21 -> 0 | H21: =IF(A21<='Dati bolletta'!$C$33,Calcoli!$E$5/'Dati bolletta'!$C$33,0) -> 0 | I21: =G21+H21 -> 0
A22: 12 | B22: =+'Dati consumi'!G18 -> 1 | C22: =+'Dati consumi'!H18 -> 0 | D22: =+'Dati consumi'!I18 -> 0 | E22: =ROUND(D22*'Dati bolletta'!$C$41,0) -> 0 | F22: =IF(E22,E22/$E$250,0) -> 0 | G22: =$E$4*F22 -> 0 | H22: =IF(A22<='Dati bolletta'!$C$33,Calcoli!$E$5/'Dati bolletta'!$C$33,0) -> 0 | I22: =G22+H22 -> 0
A23: 13 | B23: =+'Dati consumi'!G19 -> 1 | C23: =+'Dati consumi'!H19 -> 0 | D23: =+'Dati consumi'!I19 -> 0 | E23: =ROUND(D23*'Dati bolletta'!$C$41,0) -> 0 | F23: =IF(E23,E23/$E$250,0) -> 0 | G23: =$E$4*F23 -> 0 | H23: =IF(A23<='Dati bolletta'!$C$33,Calcoli!$E$5/'Dati bolletta'!$C$33,0) -> 0 | I23: =G23+H23 -> 0
A24: 14 | B24: =+'Dati consumi'!G20 -> 1 | C24: =+'Dati consumi'!H20 -> 0 | D24: =+'Dati consumi'!I20 -> 0 | E24: =ROUND(D24*'Dati bolletta'!$C$41,0) -> 0 | F24: =IF(E24,E24/$E$250,0) -> 0 | G24: =$E$4*F24 -> 0 | H24: =IF(A24<='Dati bolletta'!$C$33,Calcoli!$E$5/'Dati bolletta'!$C$33,0) -> 0 | I24: =G24+H24 -> 0
A25: 15 | B25: =+'Dati consumi'!G21 -> 1 | C25: =+'Dati consumi'!H21 -> 0 | D25: =+'Dati consumi'!I21 -> 0 | E25: =ROUND(D25*'Dati bolletta'!$C$41,0) -> 0 | F25: =IF(E25,E25/$E$250,0) -> 0 | G25: =$E$4*F25 -> 0 | H25: =IF(A25<='Dati bolletta'!$C$33,Calcoli!$E$5/'Dati bolletta'!$C$33,0) -> 0 | I25: =G25+H25 -> 0
A26: 16 | B26: =+'Dati consumi'!G22 -> 1 | C26: =+'Dati consumi'!H22 -> 0 | D26: =+'Dati consumi'!I22 -> 0 | E26: =ROUND(D26*'Dati bolletta'!$C$41,0) -> 0 | F26: =IF(E26,E26/$E$250,0) -> 0 | G26: =$E$4*F26 -> 0 | H26: =IF(A26<='Dati bolletta'!$C$33,Calcoli!$E$5/'Dati bolletta'!$C$33,0) -> 0 | I26: =G26+H26 -> 0
A27: 17 | B27: =+'Dati consumi'!G23 -> 1 | C27: =+'Dati consumi'!H23 -> 0 | D27: =+'Dati consumi'!I23 -> 0 | E27: =ROUND(D27*'Dati bolletta'!$C$41,0) -> 0 | F27: =IF(E27,E27/$E$250,0) -> 0 | G27: =$E$4*F27 -> 0 | H27: =IF(A27<='Dati bolletta'!$C$33,Calcoli!$E$5/'Dati bolletta'!$C$33,0) -> 0 | I27: =G27+H27 -> 0
A28: 18 | B28: =+'Dati consumi'!G24 -> 1 | C28: =+'Dati consumi'!H24 -> 0 | D28: =+'Dati consumi'!I24 -> 0 | E28: =ROUND(D28*'Dati bolletta'!$C$41,0) -> 0 | F28: =IF(E28,E28/$E$250,0) -> 0 | G28: =$E$4*F28 -> 0 | H28: =IF(A28<='Dati bolletta'!$C$33,Calcoli!$E$5/'Dati bolletta'!$C$33,0) -> 0 | I28: =G28+H28 -> 0
... A248: 238 | B248: =+'Dati consumi'!G244 -> 1 | C248: =+'Dati consumi'!H244 -> 0 | D248: =+'Dati consumi'!I244 -> 0 | E248: =ROUND(D248*'Dati bolletta'!$C$41,0) -> 0 | F248: =IF(E248,E248/$E$250,0) -> 0 | G248: =$E$4*F248 -> 0 | H248: =IF(A248<='Dati bolletta'!$C$33,Calcoli!$E$5/'Dati bolletta'!$C$33,0) -> 0 | I248: =G248+H248 -> 0
A250: totale | E250: =SUM(E10:E248) -> 0 | F250: =SUM(F10:F248) -> 0 | G250: =SUM(G10:G248) -> 0 | H250: =SUM(H10:H248) -> 0 | I250: =SUM(I10:I248) -> 0

Sheet tendine
A2: Acconto
A3: Conguaglio
